
BEGIN:VCALENDAR
VERSION:2.0
PRODID:-//Outer Banks Health - ECPv6.15.20//NONSGML v1.0//EN
CALSCALE:GREGORIAN
METHOD:PUBLISH
X-ORIGINAL-URL:https://www.outerbankshealth.org
X-WR-CALDESC:Events for Outer Banks Health
REFRESH-INTERVAL;VALUE=DURATION:PT1H
X-Robots-Tag:noindex
X-PUBLISHED-TTL:PT1H
BEGIN:VTIMEZONE
TZID:UTC
BEGIN:STANDARD
TZOFFSETFROM:+0000
TZOFFSETTO:+0000
TZNAME:UTC
DTSTART:20200101T000000
END:STANDARD
END:VTIMEZONE
BEGIN:VEVENT
DTSTART;TZID=UTC:20220920T103000
DTEND;TZID=UTC:20220920T130000
DTSTAMP:20260422T113611
CREATED:20220912T205038Z
LAST-MODIFIED:20220912T205038Z
UID:10001685-1663669800-1663678800@www.outerbankshealth.org
SUMMARY:Drive-Thru to Fight the Flu Clinic - Southern Shores Crossing
DESCRIPTION:[vc_row][vc_column][vc_single_image image=”95562″ img_size=”full”][vc_column_text]We know that life expectancy has increased over the last century in large part due to the advancements in vaccine science. Fight the Flu and stay well this winter! Protect yourself and those around you by getting the flu vaccine. \nPlease remain in your vehicle and our team will bring the consent form to you and then administer the flu vaccine through your open car window and/or door. Participants must be between the ages of 18 and 64 to receive a vaccine. \nAppointments are required. To make one\, please call 252-449-4529. \n*We STRONGLY recommend that individuals ages 65+ receive the High Dose Quadrivalent Flu Vaccine this year. Please note that this clinic does NOT administer the High Dose Quadrivalent Flu Vaccine. Individuals ages 65+ may not be fully protected by receiving the Standard-Dose Quadrivalent Vaccine. \nFor a complete list of all of our flu vaccine clinics\, please click here.[/vc_column_text][/vc_column][/vc_row][vc_row][vc_column][/vc_column][/vc_row]
URL:https://www.outerbankshealth.org/event/drive-thru-to-fight-the-flu-clinic-southern-shores-crossing/
LOCATION:Southern Shores Crossing Shopping Center\, 1 Ocean Blvd\, Southern Shores\, NC\, 27949\, United States
CATEGORIES:Free Flu Vaccines
END:VEVENT
BEGIN:VEVENT
DTSTART;TZID=UTC:20210317T123000
DTEND;TZID=UTC:20210317T153000
DTSTAMP:20260422T113611
CREATED:20210224T185128Z
LAST-MODIFIED:20210224T185128Z
UID:10001500-1615984200-1615995000@www.outerbankshealth.org
SUMMARY:Medication Drop Drive-Thru
DESCRIPTION:[vc_row][vc_column][vc_column_text]Unused/unwanted prescriptions or over-the-counter medications will be collected by the Dare County Sheriff’s Office for proper disposal. Animal medications are also accepted. For more information\, call 252-449-4529. \nThe event will take place at the Southern Shores Crossing Shopping Center.[/vc_column_text][/vc_column][/vc_row]
URL:https://www.outerbankshealth.org/event/medication-drop-drive-thru-2/
LOCATION:Southern Shores Crossing Shopping Center\, 1 Ocean Blvd\, Southern Shores\, NC\, 27949\, United States
END:VEVENT
END:VCALENDAR