
BEGIN:VCALENDAR
VERSION:2.0
PRODID:-//Outer Banks Health - ECPv6.15.20//NONSGML v1.0//EN
CALSCALE:GREGORIAN
METHOD:PUBLISH
X-WR-CALNAME:Outer Banks Health
X-ORIGINAL-URL:https://www.outerbankshealth.org
X-WR-CALDESC:Events for Outer Banks Health
REFRESH-INTERVAL;VALUE=DURATION:PT1H
X-Robots-Tag:noindex
X-PUBLISHED-TTL:PT1H
BEGIN:VTIMEZONE
TZID:UTC
BEGIN:STANDARD
TZOFFSETFROM:+0000
TZOFFSETTO:+0000
TZNAME:UTC
DTSTART:20250101T000000
END:STANDARD
END:VTIMEZONE
BEGIN:VEVENT
DTSTART;TZID=UTC:20260425T083000
DTEND;TZID=UTC:20260425T093000
DTSTAMP:20260421T065609
CREATED:20260420T203944Z
LAST-MODIFIED:20260420T203944Z
UID:10002545-1777105800-1777109400@www.outerbankshealth.org
SUMMARY:Walk with a Doc
DESCRIPTION:[vc_row][vc_column][vc_column_text css=””]Join Erin Baker\, DO\, FAAFP\, DipABLM from Outer Banks Family Medicine – Manteo for the first event in our new Walk with a Doc series\, kicking off during Star Spangled Saturday with Outer Banks Sporting Events. The walk is open to people of all ages and abilities and allows participants to safely take a walk\, learn about current health topics and meet new people. The Thrive Bites trailer will be on-site giving out free samples of a healthy snack!\nDr. Baker will share brief remarks around 8:40 a.m. near the Thrive Bites trailer\, and the walk will begin at 8:50 a.m. \nEvent Details\nLocation: Wright Brothers Memorial\nParking: Available at Aviation Park or First Flight High School\, then walk over.\nTime: Remarks at 8:40 a.m. | Walk begins at 8:50 a.m. \nCome out\, bring a friend and take a step toward better health with us. Let us know you’re coming here: https://secureforms.ecuhealth.org/261094209991968[/vc_column_text][/vc_column][/vc_row]
URL:https://www.outerbankshealth.org/event/walk-with-a-doc/
LOCATION:Wright Brothers National Memorial\, 1000 N Croatan Hwy\, Kill Devil Hills\, United States
END:VEVENT
END:VCALENDAR