
BEGIN:VCALENDAR
VERSION:2.0
PRODID:-//Outer Banks Health - ECPv6.15.20//NONSGML v1.0//EN
CALSCALE:GREGORIAN
METHOD:PUBLISH
X-WR-CALNAME:Outer Banks Health
X-ORIGINAL-URL:https://www.outerbankshealth.org
X-WR-CALDESC:Events for Outer Banks Health
REFRESH-INTERVAL;VALUE=DURATION:PT1H
X-Robots-Tag:noindex
X-PUBLISHED-TTL:PT1H
BEGIN:VTIMEZONE
TZID:UTC
BEGIN:STANDARD
TZOFFSETFROM:+0000
TZOFFSETTO:+0000
TZNAME:UTC
DTSTART:20240101T000000
END:STANDARD
END:VTIMEZONE
BEGIN:VEVENT
DTSTART;TZID=UTC:20251002T100000
DTEND;TZID=UTC:20251002T130000
DTSTAMP:20260421T183133
CREATED:20250805T172938Z
LAST-MODIFIED:20250805T172938Z
UID:10002335-1759399200-1759410000@www.outerbankshealth.org
SUMMARY:Community Flu Vaccines & Wellness Screenings - Buxton
DESCRIPTION:[vc_row][vc_column][vc_column_text css=””] \nOuter Banks Health offers free wellness screenings\, which include blood pressure\, heart rate\, cholesterol\, blood sugar\, and body mass index\, as well as health coaching. Flu vaccines will also be available for participants 18-64 years of age. Anyone 65+ is encouraged to see their provider or local pharmacy for the higher-dose flu vaccines. Walk-ins are welcome if appointments are available. \nThursday\, October 2 | 10 a.m. – 1 p.m. \nFessenden Center | 46830 NC Hw.y 12\, Buxton \nTo secure a spot\, click here: https://secureforms.ecuhealth.org/252163784823967 \nQuestions? Call 252-449-4529. All screenings will take place on the Outer Banks Health Coach vehicle in the parking lot. \n[/vc_column_text][/vc_column][/vc_row]
URL:https://www.outerbankshealth.org/event/community-flu-vaccines-wellness-screenings-buxton/
LOCATION:The Fessenden Center\, 46830 Highway 12\, Buxton\, 27920\, United States
CATEGORIES:Free Flu Vaccines
END:VEVENT
BEGIN:VEVENT
DTSTART;TZID=UTC:20251002T120000
DTEND;TZID=UTC:20251002T130000
DTSTAMP:20260421T183133
CREATED:20250805T165955Z
LAST-MODIFIED:20250807T201014Z
UID:10002331-1759406400-1759410000@www.outerbankshealth.org
SUMMARY:Lunch & Learn: Setting and Keeping Healthy Intentions - Buxton
DESCRIPTION:[vc_row][vc_column][vc_column_text css=””]This Lunch & Learn will feature a healthy lunch while exploring how to set achievable and personalized healthy intentions! Jaclyn E. Hall\, RDN (Registered Dietitian)\, and Denise dePedro\, NBC-HWC (Health Coach)\, from the Outer Banks Health Center for Healthy Living\, will spotlight five healthy meal ideas and walk each participant through setting their own goals for positive change. To secure a spot\, click the link below. Questions? Call 252-449-4529. \nhttps://secureforms.ecuhealth.org/252163425808962[/vc_column_text][/vc_column][/vc_row]
URL:https://www.outerbankshealth.org/event/lunch-learn-setting-and-keeping-healthy-intentions-buxton/
LOCATION:The Fessenden Center\, 46830 Highway 12\, Buxton\, 27920\, United States
END:VEVENT
BEGIN:VEVENT
DTSTART;TZID=UTC:20251007T110000
DTEND;TZID=UTC:20251007T120000
DTSTAMP:20260421T183133
CREATED:20240611T185012Z
LAST-MODIFIED:20250627T131048Z
UID:10002017-1759834800-1759838400@www.outerbankshealth.org
SUMMARY:Stroke Support Network
DESCRIPTION:Outer Banks Health offers a free virtual Stroke Support Network on the first Tuesday of every month for stroke survivors and their caregivers. For more details and to register\, contact Robin South\, RN\, at 252-449-4554 or by email at Robin.South@outerbankshealth.org. Attend in person at the Outer Banks Health Port Room or via Microsoft Teams (contact Robin for link). \n 
URL:https://www.outerbankshealth.org/event/stroke-support-network/2025-10-07/
LOCATION:Outer Banks Health Medical Office Building\, 4810 S Croatan Hwy\, Nags Head\, 27959\, United States
CATEGORIES:Stroke Support Network
END:VEVENT
BEGIN:VEVENT
DTSTART;TZID=UTC:20251007T170000
DTEND;TZID=UTC:20251007T190000
DTSTAMP:20260421T183133
CREATED:20250805T173302Z
LAST-MODIFIED:20250805T181704Z
UID:10002336-1759856400-1759863600@www.outerbankshealth.org
SUMMARY:Community Flu Vaccines & Wellness Screenings - Dowdy Park
DESCRIPTION:[vc_row][vc_column][vc_column_text css=””] \nOuter Banks Health offers free wellness screenings\, which include blood pressure\, heart rate\, cholesterol\, blood sugar\, and body mass index\, as well as health coaching. Flu vaccines will also be available for participants 18-64 years of age. Anyone 65+ is encouraged to see their provider or local pharmacy for the higher-dose flu vaccines. Walk-ins are welcome if appointments are available. \nTuesday\, October 7 | 5 p.m. – 7 p.m. \nNags Head National Night Out at Dowdy Park | 3005 S. Croatan Hwy\, Nags Head \nTo secure a spot\, click here: https://secureforms.ecuhealth.org/252164522219957 \nQuestions? Call 252-449-4529. All screenings will take place on the Outer Banks Health Coach vehicle in the parking lot. \n[/vc_column_text][/vc_column][/vc_row]
URL:https://www.outerbankshealth.org/event/community-flu-vaccines-wellness-screenings-dowdy-park-2/
LOCATION:Dowdy Park\, 3005 S Croatan Hwy\, Nags Head\, NC\, 27959\, United States
CATEGORIES:Free Flu Vaccines
END:VEVENT
BEGIN:VEVENT
DTSTART;TZID=UTC:20251010T100000
DTEND;TZID=UTC:20251010T140000
DTSTAMP:20260421T183133
CREATED:20250805T173812Z
LAST-MODIFIED:20250807T201631Z
UID:10002337-1760090400-1760104800@www.outerbankshealth.org
SUMMARY:Community Flu Vaccines & Wellness Screenings - Currituck Club
DESCRIPTION:[vc_row][vc_column][vc_column_text css=””] \nOuter Banks Health offers free wellness screenings\, which include blood pressure\, heart rate\, cholesterol\, blood sugar\, and body mass index\, as well as health coaching. Flu vaccines will also be available for participants 18-64 years of age. Anyone 65+ is encouraged to see their provider or local pharmacy for the higher-dose flu vaccines. Walk-ins are welcome if appointments are available. \nFriday\, October 10 | 8 a.m. – 2:30 p.m. \nThe Shoppes at the Currituck Club parking lot | 601 Currituck Clubhouse Dr\, Corolla \nTo secure a spot\, click here: https://secureforms.ecuhealth.org/252163821642958 \nQuestions? Call 252-449-4529. All screenings will take place on the Outer Banks Health Coach vehicle in the parking lot. \n[/vc_column_text][/vc_column][/vc_row]
URL:https://www.outerbankshealth.org/event/community-flu-vaccines-wellness-screenings-currituck-club/
LOCATION:The Shoppes at the Currituck Club\, 601 Currituck Drive\, Corolla\, 27927\, United States
CATEGORIES:Free Flu Vaccines
END:VEVENT
BEGIN:VEVENT
DTSTART;TZID=UTC:20251011T100000
DTEND;TZID=UTC:20251011T150000
DTSTAMP:20260421T183133
CREATED:20250805T163216Z
LAST-MODIFIED:20250805T163216Z
UID:10002325-1760176800-1760194800@www.outerbankshealth.org
SUMMARY:The Blood Connection Blood Drives - YMCA
DESCRIPTION:[vc_row][vc_column][vc_column_text css=””] \nThe Blood Connection will be hosting community blood drives on the Outer Banks. All donors are asked to make an appointment. Walk-ins are welcome\, but appointments are highly recommended and take priority. To make an appointment\, visit https://thebloodconnection.org/. All donors will receive an e-gift card. Outer Banks Health team members\, please present your badge upon arrival. \n[/vc_column_text][/vc_column][/vc_row]
URL:https://www.outerbankshealth.org/event/the-blood-connection-blood-drives-ymca-2/
LOCATION:Outer Banks Family YMCA\, 3000 S Croatan Hwy\, Nags Head\, 27959\, United States
CATEGORIES:Blood Connection Blood Drive
END:VEVENT
BEGIN:VEVENT
DTSTART;TZID=UTC:20251015T100000
DTEND;TZID=UTC:20251015T130000
DTSTAMP:20260421T183133
CREATED:20250805T174054Z
LAST-MODIFIED:20250805T181011Z
UID:10002338-1760522400-1760533200@www.outerbankshealth.org
SUMMARY:Community Flu Vaccines & Wellness Screenings - Baum Center
DESCRIPTION:[vc_row][vc_column][vc_column_text css=””] \nOuter Banks Health offers free wellness screenings\, which include blood pressure\, heart rate\, cholesterol\, blood sugar\, and body mass index\, as well as health coaching. Flu vaccines will also be available for participants 18-64 years of age. Anyone 65+ is encouraged to see their provider or local pharmacy for the higher-dose flu vaccines. Walk-ins are welcome if appointments are available. \nWednesday\, October 15 | 10 a.m. – 1 p.m. \nBaum Center | 300 S Mustian St\, Kill Devil Hills \nTo secure a spot\, click here: https://secureforms.ecuhealth.org/252164254256960 \nQuestions? Call 252-449-4529. All screenings will take place on the Outer Banks Health Coach vehicle in the parking lot. \n[/vc_column_text][/vc_column][/vc_row]
URL:https://www.outerbankshealth.org/event/community-flu-vaccines-wellness-screenings-baum-center/
LOCATION:Baum Senior Center\, 300 S Mustian St\, Kill Devil Hills\, NC\, 27948\, United States
CATEGORIES:Free Flu Vaccines
END:VEVENT
BEGIN:VEVENT
DTSTART;TZID=UTC:20251015T100000
DTEND;TZID=UTC:20251015T130000
DTSTAMP:20260421T183133
CREATED:20250805T180731Z
LAST-MODIFIED:20250805T180731Z
UID:10002339-1760522400-1760533200@www.outerbankshealth.org
SUMMARY:Community Flu Vaccines & Wellness Screenings - Pitts Center
DESCRIPTION:[vc_row][vc_column][vc_column_text css=””] \nOuter Banks Health offers free wellness screenings\, which include blood pressure\, heart rate\, cholesterol\, blood sugar\, and body mass index\, as well as health coaching. Flu vaccines will also be available for participants 18-64 years of age. Anyone 65+ is encouraged to see their provider or local pharmacy for the higher-dose flu vaccines. Walk-ins are welcome if appointments are available. \nWednesday\, October 22 | 10 a.m. – 1 p.m. \nPitts Center | 5377 N Virginia Dare Trl\, Kitty Hawk \nTo secure a spot\, click here: https://secureforms.ecuhealth.org/252164136696967 \nQuestions? Call 252-449-4529. All screenings will take place on the Outer Banks Health Coach vehicle in the parking lot. \n[/vc_column_text][/vc_column][/vc_row]
URL:https://www.outerbankshealth.org/event/community-flu-vaccines-wellness-screenings-pitts-center/
LOCATION:Southern Shores Pitts Center\, 5377 N. Virginia Trail\, Southern Shores\, NC\, 27949
CATEGORIES:Free Flu Vaccines
END:VEVENT
BEGIN:VEVENT
DTSTART;TZID=UTC:20251015T173000
DTEND;TZID=UTC:20251015T183000
DTSTAMP:20260421T183133
CREATED:20250805T163434Z
LAST-MODIFIED:20260226T173721Z
UID:10002326-1760549400-1760553000@www.outerbankshealth.org
SUMMARY:Namaste with the Sharks
DESCRIPTION:[vc_row][vc_column][vc_column_text css=””] \nJoin us for a FREE yoga class in the Graveyard of the Atlantic exhibit area. Designed for all skill levels\, the gate opens at 5:15 p.m. While the Aquarium will not be open\, restrooms will be available. Please bring a yoga mat and water. This class fills up quick so register today! Questions? Call 252-449-4529. \nReserve your spot for March 18 here: https://secureforms.ecuhealth.org/260327583949974 \nReserve your spot for April 22 here: https://secureforms.ecuhealth.org/260327333194959[/vc_column_text][/vc_column][/vc_row]
URL:https://www.outerbankshealth.org/event/namaste-with-the-sharks-3/2025-10-15/
LOCATION:North Carolina Aquarium on Roanoke Island\, 374 Airport Road\, Manteo\, NC\, 27954\, United States
END:VEVENT
BEGIN:VEVENT
DTSTART;TZID=UTC:20251024T180000
DTEND;TZID=UTC:20251024T220000
DTSTAMP:20260421T183133
CREATED:20240823T172846Z
LAST-MODIFIED:20250417T152712Z
UID:10001963-1761328800-1761343200@www.outerbankshealth.org
SUMMARY:Cancer Shucks!
DESCRIPTION:Outer Banks Health Development Council Presents 3rd Annual Cancer Shucks!\nAn oyster feast and low country boil benefitting OBX cancer cares. \n\n\nEnjoy an evening of seafood and music by the Blue Crab Boys\, while supporting local cancer services and programs for patients in our community!  \nMore details to come. \n\n\n\n\nFor more information\, please call 252-449-4529 or email Lea.Campbell@theobh.com.
URL:https://www.outerbankshealth.org/event/cancer-shucks/
LOCATION:Pirate’s Cove Pavilion\, 2000 Sailfish Drive\, Manteo\, NC\, United States
END:VEVENT
BEGIN:VEVENT
DTSTART;TZID=UTC:20251029T100000
DTEND;TZID=UTC:20251029T130000
DTSTAMP:20260421T183133
CREATED:20250805T180914Z
LAST-MODIFIED:20250805T180914Z
UID:10002340-1761732000-1761742800@www.outerbankshealth.org
SUMMARY:Community Flu Vaccines & Wellness Screenings - Community Care Clinic of Dare
DESCRIPTION:[vc_row][vc_column][vc_column_text css=””] \nOuter Banks Health offers free wellness screenings\, which include blood pressure\, heart rate\, cholesterol\, blood sugar\, and body mass index\, as well as health coaching. Flu vaccines will also be available for participants 18-64 years of age. Anyone 65+ is encouraged to see their provider or local pharmacy for the higher-dose flu vaccines. Walk-ins are welcome if appointments are available. \nWednesday\, October 29 | 10 a.m. – 1 p.m. \nCommunity Care Clinic of Dare | 425 W Health Center Dr\, Nags Head \nTo secure a spot\, click here: https://secureforms.ecuhealth.org/252163993434967 \nQuestions? Call 252-449-4529. All screenings will take place on the Outer Banks Health Coach vehicle in the parking lot. \n[/vc_column_text][/vc_column][/vc_row]
URL:https://www.outerbankshealth.org/event/community-flu-vaccines-wellness-screenings-community-care-clinic-of-dare-3/
LOCATION:Community Care Clinic of Dare\, 425 Health Center Drive\, Nags Hea\, NC\, 27959\, United States
CATEGORIES:Free Flu Vaccines
END:VEVENT
BEGIN:VEVENT
DTSTART;TZID=UTC:20251030T170000
DTEND;TZID=UTC:20251030T190000
DTSTAMP:20260421T183133
CREATED:20250805T163625Z
LAST-MODIFIED:20251008T200405Z
UID:10002327-1761843600-1761850800@www.outerbankshealth.org
SUMMARY:Harvest for Health Trunk or Treat
DESCRIPTION:[vc_row][vc_column][vc_column_text css=””] \nJoin this community event with free arts & crafts\, Lizard Land animal experience\, face painting\, fun trunks with treats\, and adults can get their flu vaccines (18-64 years of age). This FREE event is fall family fun for all ages. Bring your family and friends\, put on your best Halloween costume\, and join us for a few hours of fun! For more information\, call 252-449-9183. Rain or shine!\n[/vc_column_text][/vc_column][/vc_row]
URL:https://www.outerbankshealth.org/event/harvest-for-health-trunk-or-treat/
LOCATION:Outer Banks Health Hospital\, 4800 S. Croatan Highway\, Nags Head\, NC\, 27959\, United States
END:VEVENT
END:VCALENDAR