
BEGIN:VCALENDAR
VERSION:2.0
PRODID:-//Outer Banks Health - ECPv6.15.20//NONSGML v1.0//EN
CALSCALE:GREGORIAN
METHOD:PUBLISH
X-WR-CALNAME:Outer Banks Health
X-ORIGINAL-URL:https://www.outerbankshealth.org
X-WR-CALDESC:Events for Outer Banks Health
REFRESH-INTERVAL;VALUE=DURATION:PT1H
X-Robots-Tag:noindex
X-PUBLISHED-TTL:PT1H
BEGIN:VTIMEZONE
TZID:UTC
BEGIN:STANDARD
TZOFFSETFROM:+0000
TZOFFSETTO:+0000
TZNAME:UTC
DTSTART:20250101T000000
END:STANDARD
END:VTIMEZONE
BEGIN:VEVENT
DTSTART;TZID=UTC:20260625T073000
DTEND;TZID=UTC:20260625T083000
DTSTAMP:20260422T134428
CREATED:20260409T143949Z
LAST-MODIFIED:20260415T190235Z
UID:10002491-1782372600-1782376200@www.outerbankshealth.org
SUMMARY:Namaste at the Beach - Jennette's Pier
DESCRIPTION:[vc_row][vc_column][vc_column_text css=””] \nJoin us on Thursdays with free yoga classes on the tranquil beach at Jennette’s Pier. Weather permitting\, this offering is designed for men and women of all skill levels. Bring a yoga mat or towel and your water bottle. No RSVP needed. Questions? Call 252-449-4529. \nJennette’s Pier\, Nags Head[/vc_column_text][/vc_column][/vc_row]
URL:https://www.outerbankshealth.org/event/namaste-at-the-beach-4/2026-06-25/
LOCATION:Jennette’s Pier\, 7223 S. Virginia Dare Trail\, Nags Head\, NC\, 27959\, United States
CATEGORIES:Free Yoga on the Beach/Sound
END:VEVENT
BEGIN:VEVENT
DTSTART;TZID=UTC:20260627T090000
DTEND;TZID=UTC:20260627T094500
DTSTAMP:20260422T134428
CREATED:20260421T181822Z
LAST-MODIFIED:20260421T181941Z
UID:10002571-1782550800-1782553500@www.outerbankshealth.org
SUMMARY:Walk with a Doc
DESCRIPTION:[vc_row][vc_column][vc_column_text css=””] \nWalk with a Doc is a nonprofit program focused on improving community health through simple\, meaningful connection. Each walk is led by a local healthcare provider and combines light physical activity with practical health education in a relaxed\, supportive setting. It’s designed to make wellness more approachable while giving participants a chance to ask questions\, learn something new and enjoy time outdoors. \nOuter Banks Health is proud to bring Walk with a Doc to our community as a free program open to all ages and abilities. Walks are held twice per month\, typically on Saturdays at 9 a.m. at the Wright Brothers National Memorial in Kill Devil Hills. Whether you’re looking to stay active\, learn more about your health or meet new people\, we invite you to join us at an upcoming walk. \nSign up here: https://www.outerbankshealth.org/walk-with-a-doc/ \n[/vc_column_text][/vc_column][/vc_row]
URL:https://www.outerbankshealth.org/event/walk-with-a-doc-2/2026-06-27/
LOCATION:Wright Brothers National Memorial\, 1000 N Croatan Hwy\, Kill Devil Hills\, United States
CATEGORIES:Walk with a Doc
END:VEVENT
BEGIN:VEVENT
DTSTART;TZID=UTC:20260629T173000
DTEND;TZID=UTC:20260629T184500
DTSTAMP:20260422T134428
CREATED:20260116T142237Z
LAST-MODIFIED:20260408T143151Z
UID:10002474-1782754200-1782758700@www.outerbankshealth.org
SUMMARY:Prenatal Yoga Class
DESCRIPTION:[vc_row][vc_column][vc_column_text css=””]Prenatal Yoga is a time to connect mind and body to baby and breath. Led by Certified Prenatal and Vinyasa yoga teacher Anna Oprea\, this free offering is a safe space for all pregnant women\, at any gestational age\, and NO prior yoga practice needed! Mats and props will be provided\, or you are welcome to bring your own. If you are experiencing a high-risk pregnancy\, it is recommended to get prior approval from your prenatal provider to attend this class. Please RSVP for the sessions you’d like to attend visiting the webpage. \nhttps://www.outerbankshealth.org/prenatalresources/[/vc_column_text][/vc_column][/vc_row]
URL:https://www.outerbankshealth.org/event/prenatal-yoga-class-2/2026-06-29/
LOCATION:Outer Banks Health Medical Office Building\, 4810 S Croatan Hwy\, Nags Head\, 27959\, United States
END:VEVENT
BEGIN:VEVENT
DTSTART;TZID=UTC:20260707T110000
DTEND;TZID=UTC:20260707T120000
DTSTAMP:20260422T134429
CREATED:20240611T185012Z
LAST-MODIFIED:20250627T131048Z
UID:10002026-1783422000-1783425600@www.outerbankshealth.org
SUMMARY:Stroke Support Network
DESCRIPTION:Outer Banks Health offers a free virtual Stroke Support Network on the first Tuesday of every month for stroke survivors and their caregivers. For more details and to register\, contact Robin South\, RN\, at 252-449-4554 or by email at Robin.South@outerbankshealth.org. Attend in person at the Outer Banks Health Port Room or via Microsoft Teams (contact Robin for link). \n 
URL:https://www.outerbankshealth.org/event/stroke-support-network/2026-07-07/
LOCATION:Outer Banks Health Medical Office Building\, 4810 S Croatan Hwy\, Nags Head\, 27959\, United States
CATEGORIES:Stroke Support Network
END:VEVENT
BEGIN:VEVENT
DTSTART;TZID=UTC:20260711T090000
DTEND;TZID=UTC:20260711T094500
DTSTAMP:20260422T134429
CREATED:20260421T181822Z
LAST-MODIFIED:20260421T181941Z
UID:10002572-1783760400-1783763100@www.outerbankshealth.org
SUMMARY:Walk with a Doc
DESCRIPTION:[vc_row][vc_column][vc_column_text css=””] \nWalk with a Doc is a nonprofit program focused on improving community health through simple\, meaningful connection. Each walk is led by a local healthcare provider and combines light physical activity with practical health education in a relaxed\, supportive setting. It’s designed to make wellness more approachable while giving participants a chance to ask questions\, learn something new and enjoy time outdoors. \nOuter Banks Health is proud to bring Walk with a Doc to our community as a free program open to all ages and abilities. Walks are held twice per month\, typically on Saturdays at 9 a.m. at the Wright Brothers National Memorial in Kill Devil Hills. Whether you’re looking to stay active\, learn more about your health or meet new people\, we invite you to join us at an upcoming walk. \nSign up here: https://www.outerbankshealth.org/walk-with-a-doc/ \n[/vc_column_text][/vc_column][/vc_row]
URL:https://www.outerbankshealth.org/event/walk-with-a-doc-2/2026-07-11/
LOCATION:Wright Brothers National Memorial\, 1000 N Croatan Hwy\, Kill Devil Hills\, United States
CATEGORIES:Walk with a Doc
END:VEVENT
BEGIN:VEVENT
DTSTART;TZID=UTC:20260725T090000
DTEND;TZID=UTC:20260725T094500
DTSTAMP:20260422T134429
CREATED:20260421T181822Z
LAST-MODIFIED:20260421T181941Z
UID:10002573-1784970000-1784972700@www.outerbankshealth.org
SUMMARY:Walk with a Doc
DESCRIPTION:[vc_row][vc_column][vc_column_text css=””] \nWalk with a Doc is a nonprofit program focused on improving community health through simple\, meaningful connection. Each walk is led by a local healthcare provider and combines light physical activity with practical health education in a relaxed\, supportive setting. It’s designed to make wellness more approachable while giving participants a chance to ask questions\, learn something new and enjoy time outdoors. \nOuter Banks Health is proud to bring Walk with a Doc to our community as a free program open to all ages and abilities. Walks are held twice per month\, typically on Saturdays at 9 a.m. at the Wright Brothers National Memorial in Kill Devil Hills. Whether you’re looking to stay active\, learn more about your health or meet new people\, we invite you to join us at an upcoming walk. \nSign up here: https://www.outerbankshealth.org/walk-with-a-doc/ \n[/vc_column_text][/vc_column][/vc_row]
URL:https://www.outerbankshealth.org/event/walk-with-a-doc-2/2026-07-25/
LOCATION:Wright Brothers National Memorial\, 1000 N Croatan Hwy\, Kill Devil Hills\, United States
CATEGORIES:Walk with a Doc
END:VEVENT
BEGIN:VEVENT
DTSTART;TZID=UTC:20260804T110000
DTEND;TZID=UTC:20260804T120000
DTSTAMP:20260422T134429
CREATED:20240611T185012Z
LAST-MODIFIED:20250627T131048Z
UID:10002027-1785841200-1785844800@www.outerbankshealth.org
SUMMARY:Stroke Support Network
DESCRIPTION:Outer Banks Health offers a free virtual Stroke Support Network on the first Tuesday of every month for stroke survivors and their caregivers. For more details and to register\, contact Robin South\, RN\, at 252-449-4554 or by email at Robin.South@outerbankshealth.org. Attend in person at the Outer Banks Health Port Room or via Microsoft Teams (contact Robin for link). \n 
URL:https://www.outerbankshealth.org/event/stroke-support-network/2026-08-04/
LOCATION:Outer Banks Health Medical Office Building\, 4810 S Croatan Hwy\, Nags Head\, 27959\, United States
CATEGORIES:Stroke Support Network
END:VEVENT
BEGIN:VEVENT
DTSTART;TZID=UTC:20260808T090000
DTEND;TZID=UTC:20260808T094500
DTSTAMP:20260422T134429
CREATED:20260421T181822Z
LAST-MODIFIED:20260421T181941Z
UID:10002574-1786179600-1786182300@www.outerbankshealth.org
SUMMARY:Walk with a Doc
DESCRIPTION:[vc_row][vc_column][vc_column_text css=””] \nWalk with a Doc is a nonprofit program focused on improving community health through simple\, meaningful connection. Each walk is led by a local healthcare provider and combines light physical activity with practical health education in a relaxed\, supportive setting. It’s designed to make wellness more approachable while giving participants a chance to ask questions\, learn something new and enjoy time outdoors. \nOuter Banks Health is proud to bring Walk with a Doc to our community as a free program open to all ages and abilities. Walks are held twice per month\, typically on Saturdays at 9 a.m. at the Wright Brothers National Memorial in Kill Devil Hills. Whether you’re looking to stay active\, learn more about your health or meet new people\, we invite you to join us at an upcoming walk. \nSign up here: https://www.outerbankshealth.org/walk-with-a-doc/ \n[/vc_column_text][/vc_column][/vc_row]
URL:https://www.outerbankshealth.org/event/walk-with-a-doc-2/2026-08-08/
LOCATION:Wright Brothers National Memorial\, 1000 N Croatan Hwy\, Kill Devil Hills\, United States
CATEGORIES:Walk with a Doc
END:VEVENT
BEGIN:VEVENT
DTSTART;TZID=UTC:20260822T090000
DTEND;TZID=UTC:20260822T094500
DTSTAMP:20260422T134429
CREATED:20260421T181822Z
LAST-MODIFIED:20260421T181941Z
UID:10002575-1787389200-1787391900@www.outerbankshealth.org
SUMMARY:Walk with a Doc
DESCRIPTION:[vc_row][vc_column][vc_column_text css=””] \nWalk with a Doc is a nonprofit program focused on improving community health through simple\, meaningful connection. Each walk is led by a local healthcare provider and combines light physical activity with practical health education in a relaxed\, supportive setting. It’s designed to make wellness more approachable while giving participants a chance to ask questions\, learn something new and enjoy time outdoors. \nOuter Banks Health is proud to bring Walk with a Doc to our community as a free program open to all ages and abilities. Walks are held twice per month\, typically on Saturdays at 9 a.m. at the Wright Brothers National Memorial in Kill Devil Hills. Whether you’re looking to stay active\, learn more about your health or meet new people\, we invite you to join us at an upcoming walk. \nSign up here: https://www.outerbankshealth.org/walk-with-a-doc/ \n[/vc_column_text][/vc_column][/vc_row]
URL:https://www.outerbankshealth.org/event/walk-with-a-doc-2/2026-08-22/
LOCATION:Wright Brothers National Memorial\, 1000 N Croatan Hwy\, Kill Devil Hills\, United States
CATEGORIES:Walk with a Doc
END:VEVENT
BEGIN:VEVENT
DTSTART;TZID=UTC:20260901T110000
DTEND;TZID=UTC:20260901T120000
DTSTAMP:20260422T134429
CREATED:20240611T185012Z
LAST-MODIFIED:20250627T131048Z
UID:10002028-1788260400-1788264000@www.outerbankshealth.org
SUMMARY:Stroke Support Network
DESCRIPTION:Outer Banks Health offers a free virtual Stroke Support Network on the first Tuesday of every month for stroke survivors and their caregivers. For more details and to register\, contact Robin South\, RN\, at 252-449-4554 or by email at Robin.South@outerbankshealth.org. Attend in person at the Outer Banks Health Port Room or via Microsoft Teams (contact Robin for link). \n 
URL:https://www.outerbankshealth.org/event/stroke-support-network/2026-09-01/
LOCATION:Outer Banks Health Medical Office Building\, 4810 S Croatan Hwy\, Nags Head\, 27959\, United States
CATEGORIES:Stroke Support Network
END:VEVENT
BEGIN:VEVENT
DTSTART;TZID=UTC:20261006T110000
DTEND;TZID=UTC:20261006T120000
DTSTAMP:20260422T134429
CREATED:20240611T185012Z
LAST-MODIFIED:20250627T131048Z
UID:10002029-1791284400-1791288000@www.outerbankshealth.org
SUMMARY:Stroke Support Network
DESCRIPTION:Outer Banks Health offers a free virtual Stroke Support Network on the first Tuesday of every month for stroke survivors and their caregivers. For more details and to register\, contact Robin South\, RN\, at 252-449-4554 or by email at Robin.South@outerbankshealth.org. Attend in person at the Outer Banks Health Port Room or via Microsoft Teams (contact Robin for link). \n 
URL:https://www.outerbankshealth.org/event/stroke-support-network/2026-10-06/
LOCATION:Outer Banks Health Medical Office Building\, 4810 S Croatan Hwy\, Nags Head\, 27959\, United States
CATEGORIES:Stroke Support Network
END:VEVENT
BEGIN:VEVENT
DTSTART;TZID=UTC:20261103T110000
DTEND;TZID=UTC:20261103T120000
DTSTAMP:20260422T134429
CREATED:20240611T185012Z
LAST-MODIFIED:20250627T131048Z
UID:10002030-1793703600-1793707200@www.outerbankshealth.org
SUMMARY:Stroke Support Network
DESCRIPTION:Outer Banks Health offers a free virtual Stroke Support Network on the first Tuesday of every month for stroke survivors and their caregivers. For more details and to register\, contact Robin South\, RN\, at 252-449-4554 or by email at Robin.South@outerbankshealth.org. Attend in person at the Outer Banks Health Port Room or via Microsoft Teams (contact Robin for link). \n 
URL:https://www.outerbankshealth.org/event/stroke-support-network/2026-11-03/
LOCATION:Outer Banks Health Medical Office Building\, 4810 S Croatan Hwy\, Nags Head\, 27959\, United States
CATEGORIES:Stroke Support Network
END:VEVENT
BEGIN:VEVENT
DTSTART;TZID=UTC:20261201T110000
DTEND;TZID=UTC:20261201T120000
DTSTAMP:20260422T134429
CREATED:20240611T185012Z
LAST-MODIFIED:20250627T131048Z
UID:10002031-1796122800-1796126400@www.outerbankshealth.org
SUMMARY:Stroke Support Network
DESCRIPTION:Outer Banks Health offers a free virtual Stroke Support Network on the first Tuesday of every month for stroke survivors and their caregivers. For more details and to register\, contact Robin South\, RN\, at 252-449-4554 or by email at Robin.South@outerbankshealth.org. Attend in person at the Outer Banks Health Port Room or via Microsoft Teams (contact Robin for link). \n 
URL:https://www.outerbankshealth.org/event/stroke-support-network/2026-12-01/
LOCATION:Outer Banks Health Medical Office Building\, 4810 S Croatan Hwy\, Nags Head\, 27959\, United States
CATEGORIES:Stroke Support Network
END:VEVENT
BEGIN:VEVENT
DTSTART;TZID=UTC:20270105T110000
DTEND;TZID=UTC:20270105T120000
DTSTAMP:20260422T134429
CREATED:20240611T185012Z
LAST-MODIFIED:20250627T131048Z
UID:10002032-1799146800-1799150400@www.outerbankshealth.org
SUMMARY:Stroke Support Network
DESCRIPTION:Outer Banks Health offers a free virtual Stroke Support Network on the first Tuesday of every month for stroke survivors and their caregivers. For more details and to register\, contact Robin South\, RN\, at 252-449-4554 or by email at Robin.South@outerbankshealth.org. Attend in person at the Outer Banks Health Port Room or via Microsoft Teams (contact Robin for link). \n 
URL:https://www.outerbankshealth.org/event/stroke-support-network/2027-01-05/
LOCATION:Outer Banks Health Medical Office Building\, 4810 S Croatan Hwy\, Nags Head\, 27959\, United States
CATEGORIES:Stroke Support Network
END:VEVENT
BEGIN:VEVENT
DTSTART;TZID=UTC:20270202T110000
DTEND;TZID=UTC:20270202T120000
DTSTAMP:20260422T134429
CREATED:20240611T185012Z
LAST-MODIFIED:20250627T131048Z
UID:10002033-1801566000-1801569600@www.outerbankshealth.org
SUMMARY:Stroke Support Network
DESCRIPTION:Outer Banks Health offers a free virtual Stroke Support Network on the first Tuesday of every month for stroke survivors and their caregivers. For more details and to register\, contact Robin South\, RN\, at 252-449-4554 or by email at Robin.South@outerbankshealth.org. Attend in person at the Outer Banks Health Port Room or via Microsoft Teams (contact Robin for link). \n 
URL:https://www.outerbankshealth.org/event/stroke-support-network/2027-02-02/
LOCATION:Outer Banks Health Medical Office Building\, 4810 S Croatan Hwy\, Nags Head\, 27959\, United States
CATEGORIES:Stroke Support Network
END:VEVENT
BEGIN:VEVENT
DTSTART;TZID=UTC:20270302T110000
DTEND;TZID=UTC:20270302T120000
DTSTAMP:20260422T134429
CREATED:20240611T185012Z
LAST-MODIFIED:20250627T131048Z
UID:10002034-1803985200-1803988800@www.outerbankshealth.org
SUMMARY:Stroke Support Network
DESCRIPTION:Outer Banks Health offers a free virtual Stroke Support Network on the first Tuesday of every month for stroke survivors and their caregivers. For more details and to register\, contact Robin South\, RN\, at 252-449-4554 or by email at Robin.South@outerbankshealth.org. Attend in person at the Outer Banks Health Port Room or via Microsoft Teams (contact Robin for link). \n 
URL:https://www.outerbankshealth.org/event/stroke-support-network/2027-03-02/
LOCATION:Outer Banks Health Medical Office Building\, 4810 S Croatan Hwy\, Nags Head\, 27959\, United States
CATEGORIES:Stroke Support Network
END:VEVENT
BEGIN:VEVENT
DTSTART;TZID=UTC:20270406T110000
DTEND;TZID=UTC:20270406T120000
DTSTAMP:20260422T134429
CREATED:20240611T185012Z
LAST-MODIFIED:20250627T131048Z
UID:10002035-1807009200-1807012800@www.outerbankshealth.org
SUMMARY:Stroke Support Network
DESCRIPTION:Outer Banks Health offers a free virtual Stroke Support Network on the first Tuesday of every month for stroke survivors and their caregivers. For more details and to register\, contact Robin South\, RN\, at 252-449-4554 or by email at Robin.South@outerbankshealth.org. Attend in person at the Outer Banks Health Port Room or via Microsoft Teams (contact Robin for link). \n 
URL:https://www.outerbankshealth.org/event/stroke-support-network/2027-04-06/
LOCATION:Outer Banks Health Medical Office Building\, 4810 S Croatan Hwy\, Nags Head\, 27959\, United States
CATEGORIES:Stroke Support Network
END:VEVENT
BEGIN:VEVENT
DTSTART;TZID=UTC:20270504T110000
DTEND;TZID=UTC:20270504T120000
DTSTAMP:20260422T134429
CREATED:20240611T185012Z
LAST-MODIFIED:20250627T131048Z
UID:10002036-1809428400-1809432000@www.outerbankshealth.org
SUMMARY:Stroke Support Network
DESCRIPTION:Outer Banks Health offers a free virtual Stroke Support Network on the first Tuesday of every month for stroke survivors and their caregivers. For more details and to register\, contact Robin South\, RN\, at 252-449-4554 or by email at Robin.South@outerbankshealth.org. Attend in person at the Outer Banks Health Port Room or via Microsoft Teams (contact Robin for link). \n 
URL:https://www.outerbankshealth.org/event/stroke-support-network/2027-05-04/
LOCATION:Outer Banks Health Medical Office Building\, 4810 S Croatan Hwy\, Nags Head\, 27959\, United States
CATEGORIES:Stroke Support Network
END:VEVENT
BEGIN:VEVENT
DTSTART;TZID=UTC:20270601T110000
DTEND;TZID=UTC:20270601T120000
DTSTAMP:20260422T134429
CREATED:20240611T185012Z
LAST-MODIFIED:20250627T131048Z
UID:10002037-1811847600-1811851200@www.outerbankshealth.org
SUMMARY:Stroke Support Network
DESCRIPTION:Outer Banks Health offers a free virtual Stroke Support Network on the first Tuesday of every month for stroke survivors and their caregivers. For more details and to register\, contact Robin South\, RN\, at 252-449-4554 or by email at Robin.South@outerbankshealth.org. Attend in person at the Outer Banks Health Port Room or via Microsoft Teams (contact Robin for link). \n 
URL:https://www.outerbankshealth.org/event/stroke-support-network/2027-06-01/
LOCATION:Outer Banks Health Medical Office Building\, 4810 S Croatan Hwy\, Nags Head\, 27959\, United States
CATEGORIES:Stroke Support Network
END:VEVENT
BEGIN:VEVENT
DTSTART;TZID=UTC:20270706T110000
DTEND;TZID=UTC:20270706T120000
DTSTAMP:20260422T134429
CREATED:20240611T185012Z
LAST-MODIFIED:20250627T131048Z
UID:10002038-1814871600-1814875200@www.outerbankshealth.org
SUMMARY:Stroke Support Network
DESCRIPTION:Outer Banks Health offers a free virtual Stroke Support Network on the first Tuesday of every month for stroke survivors and their caregivers. For more details and to register\, contact Robin South\, RN\, at 252-449-4554 or by email at Robin.South@outerbankshealth.org. Attend in person at the Outer Banks Health Port Room or via Microsoft Teams (contact Robin for link). \n 
URL:https://www.outerbankshealth.org/event/stroke-support-network/2027-07-06/
LOCATION:Outer Banks Health Medical Office Building\, 4810 S Croatan Hwy\, Nags Head\, 27959\, United States
CATEGORIES:Stroke Support Network
END:VEVENT
BEGIN:VEVENT
DTSTART;TZID=UTC:20270803T110000
DTEND;TZID=UTC:20270803T120000
DTSTAMP:20260422T134429
CREATED:20240611T185012Z
LAST-MODIFIED:20250627T131048Z
UID:10002039-1817290800-1817294400@www.outerbankshealth.org
SUMMARY:Stroke Support Network
DESCRIPTION:Outer Banks Health offers a free virtual Stroke Support Network on the first Tuesday of every month for stroke survivors and their caregivers. For more details and to register\, contact Robin South\, RN\, at 252-449-4554 or by email at Robin.South@outerbankshealth.org. Attend in person at the Outer Banks Health Port Room or via Microsoft Teams (contact Robin for link). \n 
URL:https://www.outerbankshealth.org/event/stroke-support-network/2027-08-03/
LOCATION:Outer Banks Health Medical Office Building\, 4810 S Croatan Hwy\, Nags Head\, 27959\, United States
CATEGORIES:Stroke Support Network
END:VEVENT
BEGIN:VEVENT
DTSTART;TZID=UTC:20270907T110000
DTEND;TZID=UTC:20270907T120000
DTSTAMP:20260422T134429
CREATED:20240611T185012Z
LAST-MODIFIED:20250627T131048Z
UID:10002040-1820314800-1820318400@www.outerbankshealth.org
SUMMARY:Stroke Support Network
DESCRIPTION:Outer Banks Health offers a free virtual Stroke Support Network on the first Tuesday of every month for stroke survivors and their caregivers. For more details and to register\, contact Robin South\, RN\, at 252-449-4554 or by email at Robin.South@outerbankshealth.org. Attend in person at the Outer Banks Health Port Room or via Microsoft Teams (contact Robin for link). \n 
URL:https://www.outerbankshealth.org/event/stroke-support-network/2027-09-07/
LOCATION:Outer Banks Health Medical Office Building\, 4810 S Croatan Hwy\, Nags Head\, 27959\, United States
CATEGORIES:Stroke Support Network
END:VEVENT
BEGIN:VEVENT
DTSTART;TZID=UTC:20271005T110000
DTEND;TZID=UTC:20271005T120000
DTSTAMP:20260422T134429
CREATED:20240611T185012Z
LAST-MODIFIED:20250627T131048Z
UID:10002041-1822734000-1822737600@www.outerbankshealth.org
SUMMARY:Stroke Support Network
DESCRIPTION:Outer Banks Health offers a free virtual Stroke Support Network on the first Tuesday of every month for stroke survivors and their caregivers. For more details and to register\, contact Robin South\, RN\, at 252-449-4554 or by email at Robin.South@outerbankshealth.org. Attend in person at the Outer Banks Health Port Room or via Microsoft Teams (contact Robin for link). \n 
URL:https://www.outerbankshealth.org/event/stroke-support-network/2027-10-05/
LOCATION:Outer Banks Health Medical Office Building\, 4810 S Croatan Hwy\, Nags Head\, 27959\, United States
CATEGORIES:Stroke Support Network
END:VEVENT
BEGIN:VEVENT
DTSTART;TZID=UTC:20271102T110000
DTEND;TZID=UTC:20271102T120000
DTSTAMP:20260422T134429
CREATED:20240611T185012Z
LAST-MODIFIED:20250627T131048Z
UID:10002042-1825153200-1825156800@www.outerbankshealth.org
SUMMARY:Stroke Support Network
DESCRIPTION:Outer Banks Health offers a free virtual Stroke Support Network on the first Tuesday of every month for stroke survivors and their caregivers. For more details and to register\, contact Robin South\, RN\, at 252-449-4554 or by email at Robin.South@outerbankshealth.org. Attend in person at the Outer Banks Health Port Room or via Microsoft Teams (contact Robin for link). \n 
URL:https://www.outerbankshealth.org/event/stroke-support-network/2027-11-02/
LOCATION:Outer Banks Health Medical Office Building\, 4810 S Croatan Hwy\, Nags Head\, 27959\, United States
CATEGORIES:Stroke Support Network
END:VEVENT
BEGIN:VEVENT
DTSTART;TZID=UTC:20271207T110000
DTEND;TZID=UTC:20271207T120000
DTSTAMP:20260422T134429
CREATED:20240611T185012Z
LAST-MODIFIED:20250627T131048Z
UID:10002043-1828177200-1828180800@www.outerbankshealth.org
SUMMARY:Stroke Support Network
DESCRIPTION:Outer Banks Health offers a free virtual Stroke Support Network on the first Tuesday of every month for stroke survivors and their caregivers. For more details and to register\, contact Robin South\, RN\, at 252-449-4554 or by email at Robin.South@outerbankshealth.org. Attend in person at the Outer Banks Health Port Room or via Microsoft Teams (contact Robin for link). \n 
URL:https://www.outerbankshealth.org/event/stroke-support-network/2027-12-07/
LOCATION:Outer Banks Health Medical Office Building\, 4810 S Croatan Hwy\, Nags Head\, 27959\, United States
CATEGORIES:Stroke Support Network
END:VEVENT
BEGIN:VEVENT
DTSTART;TZID=UTC:20280104T110000
DTEND;TZID=UTC:20280104T120000
DTSTAMP:20260422T134429
CREATED:20240611T185012Z
LAST-MODIFIED:20250627T131048Z
UID:10002044-1830596400-1830600000@www.outerbankshealth.org
SUMMARY:Stroke Support Network
DESCRIPTION:Outer Banks Health offers a free virtual Stroke Support Network on the first Tuesday of every month for stroke survivors and their caregivers. For more details and to register\, contact Robin South\, RN\, at 252-449-4554 or by email at Robin.South@outerbankshealth.org. Attend in person at the Outer Banks Health Port Room or via Microsoft Teams (contact Robin for link). \n 
URL:https://www.outerbankshealth.org/event/stroke-support-network/2028-01-04/
LOCATION:Outer Banks Health Medical Office Building\, 4810 S Croatan Hwy\, Nags Head\, 27959\, United States
CATEGORIES:Stroke Support Network
END:VEVENT
BEGIN:VEVENT
DTSTART;TZID=UTC:20280201T110000
DTEND;TZID=UTC:20280201T120000
DTSTAMP:20260422T134429
CREATED:20240611T185012Z
LAST-MODIFIED:20250627T131048Z
UID:10002045-1833015600-1833019200@www.outerbankshealth.org
SUMMARY:Stroke Support Network
DESCRIPTION:Outer Banks Health offers a free virtual Stroke Support Network on the first Tuesday of every month for stroke survivors and their caregivers. For more details and to register\, contact Robin South\, RN\, at 252-449-4554 or by email at Robin.South@outerbankshealth.org. Attend in person at the Outer Banks Health Port Room or via Microsoft Teams (contact Robin for link). \n 
URL:https://www.outerbankshealth.org/event/stroke-support-network/2028-02-01/
LOCATION:Outer Banks Health Medical Office Building\, 4810 S Croatan Hwy\, Nags Head\, 27959\, United States
CATEGORIES:Stroke Support Network
END:VEVENT
BEGIN:VEVENT
DTSTART;TZID=UTC:20280307T110000
DTEND;TZID=UTC:20280307T120000
DTSTAMP:20260422T134429
CREATED:20240611T185012Z
LAST-MODIFIED:20250627T131048Z
UID:10002046-1836039600-1836043200@www.outerbankshealth.org
SUMMARY:Stroke Support Network
DESCRIPTION:Outer Banks Health offers a free virtual Stroke Support Network on the first Tuesday of every month for stroke survivors and their caregivers. For more details and to register\, contact Robin South\, RN\, at 252-449-4554 or by email at Robin.South@outerbankshealth.org. Attend in person at the Outer Banks Health Port Room or via Microsoft Teams (contact Robin for link). \n 
URL:https://www.outerbankshealth.org/event/stroke-support-network/2028-03-07/
LOCATION:Outer Banks Health Medical Office Building\, 4810 S Croatan Hwy\, Nags Head\, 27959\, United States
CATEGORIES:Stroke Support Network
END:VEVENT
BEGIN:VEVENT
DTSTART;TZID=UTC:20280404T110000
DTEND;TZID=UTC:20280404T120000
DTSTAMP:20260422T134429
CREATED:20240611T185012Z
LAST-MODIFIED:20250627T131048Z
UID:10002047-1838458800-1838462400@www.outerbankshealth.org
SUMMARY:Stroke Support Network
DESCRIPTION:Outer Banks Health offers a free virtual Stroke Support Network on the first Tuesday of every month for stroke survivors and their caregivers. For more details and to register\, contact Robin South\, RN\, at 252-449-4554 or by email at Robin.South@outerbankshealth.org. Attend in person at the Outer Banks Health Port Room or via Microsoft Teams (contact Robin for link). \n 
URL:https://www.outerbankshealth.org/event/stroke-support-network/2028-04-04/
LOCATION:Outer Banks Health Medical Office Building\, 4810 S Croatan Hwy\, Nags Head\, 27959\, United States
CATEGORIES:Stroke Support Network
END:VEVENT
BEGIN:VEVENT
DTSTART;TZID=UTC:20280502T110000
DTEND;TZID=UTC:20280502T120000
DTSTAMP:20260422T134429
CREATED:20240611T185012Z
LAST-MODIFIED:20250627T131048Z
UID:10002048-1840878000-1840881600@www.outerbankshealth.org
SUMMARY:Stroke Support Network
DESCRIPTION:Outer Banks Health offers a free virtual Stroke Support Network on the first Tuesday of every month for stroke survivors and their caregivers. For more details and to register\, contact Robin South\, RN\, at 252-449-4554 or by email at Robin.South@outerbankshealth.org. Attend in person at the Outer Banks Health Port Room or via Microsoft Teams (contact Robin for link). \n 
URL:https://www.outerbankshealth.org/event/stroke-support-network/2028-05-02/
LOCATION:Outer Banks Health Medical Office Building\, 4810 S Croatan Hwy\, Nags Head\, 27959\, United States
CATEGORIES:Stroke Support Network
END:VEVENT
END:VCALENDAR