
BEGIN:VCALENDAR
VERSION:2.0
PRODID:-//Outer Banks Health - ECPv6.15.20//NONSGML v1.0//EN
CALSCALE:GREGORIAN
METHOD:PUBLISH
X-WR-CALNAME:Outer Banks Health
X-ORIGINAL-URL:https://www.outerbankshealth.org
X-WR-CALDESC:Events for Outer Banks Health
REFRESH-INTERVAL;VALUE=DURATION:PT1H
X-Robots-Tag:noindex
X-PUBLISHED-TTL:PT1H
BEGIN:VTIMEZONE
TZID:UTC
BEGIN:STANDARD
TZOFFSETFROM:+0000
TZOFFSETTO:+0000
TZNAME:UTC
DTSTART:20250101T000000
END:STANDARD
END:VTIMEZONE
BEGIN:VEVENT
DTSTART;TZID=UTC:20260502T100000
DTEND;TZID=UTC:20260502T130000
DTSTAMP:20260419T120032
CREATED:20260408T142908Z
LAST-MODIFIED:20260408T144437Z
UID:10002464-1777716000-1777726800@www.outerbankshealth.org
SUMMARY:Skin Checks at Outer Banks Dermatology
DESCRIPTION:[vc_row][vc_column][vc_column_text css=””]Join us for free skin checks with Joyce Smith\, DNP\, NP-C. Simply wear loose\, comfortable clothes and get a thorough skin health check in just 10 minutes. Questions? Call 252-449-9183.  \nClick here to confirm your spot: https://secureforms.ecuhealth.org/260956398092975[/vc_column_text][/vc_column][/vc_row]
URL:https://www.outerbankshealth.org/event/skin-checks-at-outer-banks-dermatology/
LOCATION:Outer Banks Dermatology\, 2405 S Croatan Hwy\, Nags Head\, NC\, 27959\, United States
CATEGORIES:Wellness Screens
END:VEVENT
BEGIN:VEVENT
DTSTART;TZID=UTC:20260513T100000
DTEND;TZID=UTC:20260513T130000
DTSTAMP:20260419T120032
CREATED:20260204T165958Z
LAST-MODIFIED:20260408T143606Z
UID:10002450-1778666400-1778677200@www.outerbankshealth.org
SUMMARY:Wellness Screening
DESCRIPTION:[vc_row][vc_column][vc_column_text css=””]Outer Banks Health offers free wellness screenings\, which include blood pressure\, heart rate\, cholesterol\, blood sugar\, and body mass index\, as well as health coaching. A1C screenings\, which measure a person’s blood glucose level over the past three months\, will also be available. Appointments are highly recommended and take priority. Walk-ins are welcome if appointments are available. Questions? Call 252-449-9183. All screenings will take place on the Outer Banks Health Coach vehicle in the parking lot. \nRegister here: https://secureforms.ecuhealth.org/260974105500955[/vc_column_text][/vc_column][/vc_row]
URL:https://www.outerbankshealth.org/event/wellness-screening-4/
LOCATION:Town of Southern Shores\, 5375 N Virginia Dare Trl\, Southern Shores\, NC\, 27949\, United States
CATEGORIES:Wellness Screens
END:VEVENT
BEGIN:VEVENT
DTSTART;TZID=UTC:20260603T100000
DTEND;TZID=UTC:20260603T130000
DTSTAMP:20260419T120032
CREATED:20260204T165243Z
LAST-MODIFIED:20260408T144208Z
UID:10002448-1780480800-1780491600@www.outerbankshealth.org
SUMMARY:Wellness Screening
DESCRIPTION:[vc_row][vc_column][vc_column_text css=””]Outer Banks Health offers free wellness screenings\, which include blood pressure\, heart rate\, cholesterol\, blood sugar\, and body mass index\, as well as health coaching. A1C screenings\, which measure a person’s blood glucose level over the past three months\, will also be available. Appointments are highly recommended and take priority. Walk-ins are welcome if appointments are available. Questions? Call 252-449-9183. All screenings will take place on the Outer Banks Health Coach vehicle in the parking lot. \nRegister here: https://secureforms.ecuhealth.org/260973905573972[/vc_column_text][/vc_column][/vc_row]
URL:https://www.outerbankshealth.org/event/wellness-screening-2/
LOCATION:Corolla Library\, 1123 Ocean Trl\, Corolla\, United States
CATEGORIES:Wellness Screens
END:VEVENT
END:VCALENDAR