
BEGIN:VCALENDAR
VERSION:2.0
PRODID:-//Outer Banks Health - ECPv6.15.20//NONSGML v1.0//EN
CALSCALE:GREGORIAN
METHOD:PUBLISH
X-ORIGINAL-URL:https://www.outerbankshealth.org
X-WR-CALDESC:Events for Outer Banks Health
REFRESH-INTERVAL;VALUE=DURATION:PT1H
X-Robots-Tag:noindex
X-PUBLISHED-TTL:PT1H
BEGIN:VTIMEZONE
TZID:UTC
BEGIN:STANDARD
TZOFFSETFROM:+0000
TZOFFSETTO:+0000
TZNAME:UTC
DTSTART:20210101T000000
END:STANDARD
END:VTIMEZONE
BEGIN:VEVENT
DTSTART;TZID=UTC:20231003T110000
DTEND;TZID=UTC:20231003T130000
DTSTAMP:20260422T184457
CREATED:20230808T153031Z
LAST-MODIFIED:20230808T153906Z
UID:10001761-1696330800-1696338000@www.outerbankshealth.org
SUMMARY:Healthy Living Jump Start
DESCRIPTION:Groups meet every other Wednesday in person. The Center for Healthy Living is offering 6 week provider led group classes that include biometrics\, access to a registered dietitian and certified health coach. Call 252-449-7390 to discuss eligibility. (No class Thanksgiving week)
URL:https://www.outerbankshealth.org/event/healthy-living-jump-start-october-2023/2023-10-03/
LOCATION:The Center for Healthy Living\, 4810 S. Croatan Highway\, Nags Head\, NC\, 27959\, United States
CATEGORIES:Road to a Healthier You
END:VEVENT
BEGIN:VEVENT
DTSTART;TZID=UTC:20230919T110000
DTEND;TZID=UTC:20230919T130000
DTSTAMP:20260422T184457
CREATED:20230808T153031Z
LAST-MODIFIED:20230808T153906Z
UID:10001760-1695121200-1695128400@www.outerbankshealth.org
SUMMARY:Healthy Living Jump Start
DESCRIPTION:Groups meet every other Wednesday in person. The Center for Healthy Living is offering 6 week provider led group classes that include biometrics\, access to a registered dietitian and certified health coach. Call 252-449-7390 to discuss eligibility. (No class Thanksgiving week)
URL:https://www.outerbankshealth.org/event/healthy-living-jump-start-october-2023/2023-09-19/
LOCATION:The Center for Healthy Living\, 4810 S. Croatan Highway\, Nags Head\, NC\, 27959\, United States
CATEGORIES:Road to a Healthier You
END:VEVENT
BEGIN:VEVENT
DTSTART;TZID=UTC:20230905T110000
DTEND;TZID=UTC:20230905T130000
DTSTAMP:20260422T184457
CREATED:20230808T153031Z
LAST-MODIFIED:20230808T153906Z
UID:10001759-1693911600-1693918800@www.outerbankshealth.org
SUMMARY:Healthy Living Jump Start
DESCRIPTION:Groups meet every other Wednesday in person. The Center for Healthy Living is offering 6 week provider led group classes that include biometrics\, access to a registered dietitian and certified health coach. Call 252-449-7390 to discuss eligibility. (No class Thanksgiving week)
URL:https://www.outerbankshealth.org/event/healthy-living-jump-start-october-2023/2023-09-05/
LOCATION:The Center for Healthy Living\, 4810 S. Croatan Highway\, Nags Head\, NC\, 27959\, United States
CATEGORIES:Road to a Healthier You
END:VEVENT
BEGIN:VEVENT
DTSTART;TZID=UTC:20230822T110000
DTEND;TZID=UTC:20230822T130000
DTSTAMP:20260422T184457
CREATED:20230808T153031Z
LAST-MODIFIED:20230808T153906Z
UID:10001758-1692702000-1692709200@www.outerbankshealth.org
SUMMARY:Healthy Living Jump Start
DESCRIPTION:Groups meet every other Wednesday in person. The Center for Healthy Living is offering 6 week provider led group classes that include biometrics\, access to a registered dietitian and certified health coach. Call 252-449-7390 to discuss eligibility. (No class Thanksgiving week)
URL:https://www.outerbankshealth.org/event/healthy-living-jump-start-october-2023/2023-08-22/
LOCATION:The Center for Healthy Living\, 4810 S. Croatan Highway\, Nags Head\, NC\, 27959\, United States
CATEGORIES:Road to a Healthier You
END:VEVENT
BEGIN:VEVENT
DTSTART;TZID=UTC:20230808T110000
DTEND;TZID=UTC:20230808T130000
DTSTAMP:20260422T184457
CREATED:20230808T153031Z
LAST-MODIFIED:20230808T153906Z
UID:10001757-1691492400-1691499600@www.outerbankshealth.org
SUMMARY:Healthy Living Jump Start
DESCRIPTION:Groups meet every other Wednesday in person. The Center for Healthy Living is offering 6 week provider led group classes that include biometrics\, access to a registered dietitian and certified health coach. Call 252-449-7390 to discuss eligibility. (No class Thanksgiving week)
URL:https://www.outerbankshealth.org/event/healthy-living-jump-start-october-2023/2023-08-08/
LOCATION:The Center for Healthy Living\, 4810 S. Croatan Highway\, Nags Head\, NC\, 27959\, United States
CATEGORIES:Road to a Healthier You
END:VEVENT
BEGIN:VEVENT
DTSTART;TZID=UTC:20230725T110000
DTEND;TZID=UTC:20230725T130000
DTSTAMP:20260422T184457
CREATED:20230808T153031Z
LAST-MODIFIED:20230808T153906Z
UID:10001756-1690282800-1690290000@www.outerbankshealth.org
SUMMARY:Healthy Living Jump Start
DESCRIPTION:Groups meet every other Wednesday in person. The Center for Healthy Living is offering 6 week provider led group classes that include biometrics\, access to a registered dietitian and certified health coach. Call 252-449-7390 to discuss eligibility. (No class Thanksgiving week)
URL:https://www.outerbankshealth.org/event/healthy-living-jump-start-october-2023/2023-07-25/
LOCATION:The Center for Healthy Living\, 4810 S. Croatan Highway\, Nags Head\, NC\, 27959\, United States
CATEGORIES:Road to a Healthier You
END:VEVENT
BEGIN:VEVENT
DTSTART;TZID=UTC:20230711T110000
DTEND;TZID=UTC:20230711T130000
DTSTAMP:20260422T184457
CREATED:20230808T153031Z
LAST-MODIFIED:20230808T153906Z
UID:10001755-1689073200-1689080400@www.outerbankshealth.org
SUMMARY:Healthy Living Jump Start
DESCRIPTION:Groups meet every other Wednesday in person. The Center for Healthy Living is offering 6 week provider led group classes that include biometrics\, access to a registered dietitian and certified health coach. Call 252-449-7390 to discuss eligibility. (No class Thanksgiving week)
URL:https://www.outerbankshealth.org/event/healthy-living-jump-start-october-2023/2023-07-11/
LOCATION:The Center for Healthy Living\, 4810 S. Croatan Highway\, Nags Head\, NC\, 27959\, United States
CATEGORIES:Road to a Healthier You
END:VEVENT
BEGIN:VEVENT
DTSTART;TZID=UTC:20230627T110000
DTEND;TZID=UTC:20230627T130000
DTSTAMP:20260422T184457
CREATED:20230808T153031Z
LAST-MODIFIED:20230808T153906Z
UID:10001754-1687863600-1687870800@www.outerbankshealth.org
SUMMARY:Healthy Living Jump Start
DESCRIPTION:Groups meet every other Wednesday in person. The Center for Healthy Living is offering 6 week provider led group classes that include biometrics\, access to a registered dietitian and certified health coach. Call 252-449-7390 to discuss eligibility. (No class Thanksgiving week)
URL:https://www.outerbankshealth.org/event/healthy-living-jump-start-october-2023/2023-06-27/
LOCATION:The Center for Healthy Living\, 4810 S. Croatan Highway\, Nags Head\, NC\, 27959\, United States
CATEGORIES:Road to a Healthier You
END:VEVENT
BEGIN:VEVENT
DTSTART;TZID=UTC:20230613T110000
DTEND;TZID=UTC:20230613T130000
DTSTAMP:20260422T184457
CREATED:20230808T153031Z
LAST-MODIFIED:20230808T153906Z
UID:10001753-1686654000-1686661200@www.outerbankshealth.org
SUMMARY:Healthy Living Jump Start
DESCRIPTION:Groups meet every other Wednesday in person. The Center for Healthy Living is offering 6 week provider led group classes that include biometrics\, access to a registered dietitian and certified health coach. Call 252-449-7390 to discuss eligibility. (No class Thanksgiving week)
URL:https://www.outerbankshealth.org/event/healthy-living-jump-start-october-2023/2023-06-13/
LOCATION:The Center for Healthy Living\, 4810 S. Croatan Highway\, Nags Head\, NC\, 27959\, United States
CATEGORIES:Road to a Healthier You
END:VEVENT
BEGIN:VEVENT
DTSTART;TZID=UTC:20230530T110000
DTEND;TZID=UTC:20230530T130000
DTSTAMP:20260422T184457
CREATED:20230808T153031Z
LAST-MODIFIED:20230808T153906Z
UID:10001752-1685444400-1685451600@www.outerbankshealth.org
SUMMARY:Healthy Living Jump Start
DESCRIPTION:Groups meet every other Wednesday in person. The Center for Healthy Living is offering 6 week provider led group classes that include biometrics\, access to a registered dietitian and certified health coach. Call 252-449-7390 to discuss eligibility. (No class Thanksgiving week)
URL:https://www.outerbankshealth.org/event/healthy-living-jump-start-october-2023/2023-05-30/
LOCATION:The Center for Healthy Living\, 4810 S. Croatan Highway\, Nags Head\, NC\, 27959\, United States
CATEGORIES:Road to a Healthier You
END:VEVENT
BEGIN:VEVENT
DTSTART;TZID=UTC:20230516T110000
DTEND;TZID=UTC:20230516T130000
DTSTAMP:20260422T184457
CREATED:20230808T153031Z
LAST-MODIFIED:20230808T153906Z
UID:10001751-1684234800-1684242000@www.outerbankshealth.org
SUMMARY:Healthy Living Jump Start
DESCRIPTION:Groups meet every other Wednesday in person. The Center for Healthy Living is offering 6 week provider led group classes that include biometrics\, access to a registered dietitian and certified health coach. Call 252-449-7390 to discuss eligibility. (No class Thanksgiving week)
URL:https://www.outerbankshealth.org/event/healthy-living-jump-start-october-2023/2023-05-16/
LOCATION:The Center for Healthy Living\, 4810 S. Croatan Highway\, Nags Head\, NC\, 27959\, United States
CATEGORIES:Road to a Healthier You
END:VEVENT
BEGIN:VEVENT
DTSTART;TZID=UTC:20230502T110000
DTEND;TZID=UTC:20230502T130000
DTSTAMP:20260422T184457
CREATED:20230808T153031Z
LAST-MODIFIED:20230808T153906Z
UID:10001750-1683025200-1683032400@www.outerbankshealth.org
SUMMARY:Healthy Living Jump Start
DESCRIPTION:Groups meet every other Wednesday in person. The Center for Healthy Living is offering 6 week provider led group classes that include biometrics\, access to a registered dietitian and certified health coach. Call 252-449-7390 to discuss eligibility. (No class Thanksgiving week)
URL:https://www.outerbankshealth.org/event/healthy-living-jump-start-october-2023/2023-05-02/
LOCATION:The Center for Healthy Living\, 4810 S. Croatan Highway\, Nags Head\, NC\, 27959\, United States
CATEGORIES:Road to a Healthier You
END:VEVENT
BEGIN:VEVENT
DTSTART;TZID=UTC:20230418T110000
DTEND;TZID=UTC:20230418T130000
DTSTAMP:20260422T184457
CREATED:20230808T153031Z
LAST-MODIFIED:20230808T153906Z
UID:10001749-1681815600-1681822800@www.outerbankshealth.org
SUMMARY:Healthy Living Jump Start
DESCRIPTION:Groups meet every other Wednesday in person. The Center for Healthy Living is offering 6 week provider led group classes that include biometrics\, access to a registered dietitian and certified health coach. Call 252-449-7390 to discuss eligibility. (No class Thanksgiving week)
URL:https://www.outerbankshealth.org/event/healthy-living-jump-start-october-2023/2023-04-18/
LOCATION:The Center for Healthy Living\, 4810 S. Croatan Highway\, Nags Head\, NC\, 27959\, United States
CATEGORIES:Road to a Healthier You
END:VEVENT
BEGIN:VEVENT
DTSTART;TZID=UTC:20230404T110000
DTEND;TZID=UTC:20230404T130000
DTSTAMP:20260422T184457
CREATED:20230808T153031Z
LAST-MODIFIED:20230808T153906Z
UID:10001748-1680606000-1680613200@www.outerbankshealth.org
SUMMARY:Healthy Living Jump Start
DESCRIPTION:Groups meet every other Wednesday in person. The Center for Healthy Living is offering 6 week provider led group classes that include biometrics\, access to a registered dietitian and certified health coach. Call 252-449-7390 to discuss eligibility. (No class Thanksgiving week)
URL:https://www.outerbankshealth.org/event/healthy-living-jump-start-october-2023/2023-04-04/
LOCATION:The Center for Healthy Living\, 4810 S. Croatan Highway\, Nags Head\, NC\, 27959\, United States
CATEGORIES:Road to a Healthier You
END:VEVENT
BEGIN:VEVENT
DTSTART;TZID=UTC:20230321T110000
DTEND;TZID=UTC:20230321T130000
DTSTAMP:20260422T184457
CREATED:20230808T153031Z
LAST-MODIFIED:20230808T153906Z
UID:10001747-1679396400-1679403600@www.outerbankshealth.org
SUMMARY:Healthy Living Jump Start
DESCRIPTION:Groups meet every other Wednesday in person. The Center for Healthy Living is offering 6 week provider led group classes that include biometrics\, access to a registered dietitian and certified health coach. Call 252-449-7390 to discuss eligibility. (No class Thanksgiving week)
URL:https://www.outerbankshealth.org/event/healthy-living-jump-start-october-2023/2023-03-21/
LOCATION:The Center for Healthy Living\, 4810 S. Croatan Highway\, Nags Head\, NC\, 27959\, United States
CATEGORIES:Road to a Healthier You
END:VEVENT
BEGIN:VEVENT
DTSTART;TZID=UTC:20230307T110000
DTEND;TZID=UTC:20230307T130000
DTSTAMP:20260422T184457
CREATED:20230808T153031Z
LAST-MODIFIED:20230808T153906Z
UID:10001746-1678186800-1678194000@www.outerbankshealth.org
SUMMARY:Healthy Living Jump Start
DESCRIPTION:Groups meet every other Wednesday in person. The Center for Healthy Living is offering 6 week provider led group classes that include biometrics\, access to a registered dietitian and certified health coach. Call 252-449-7390 to discuss eligibility. (No class Thanksgiving week)
URL:https://www.outerbankshealth.org/event/healthy-living-jump-start-october-2023/2023-03-07/
LOCATION:The Center for Healthy Living\, 4810 S. Croatan Highway\, Nags Head\, NC\, 27959\, United States
CATEGORIES:Road to a Healthier You
END:VEVENT
BEGIN:VEVENT
DTSTART;TZID=UTC:20230221T110000
DTEND;TZID=UTC:20230221T130000
DTSTAMP:20260422T184457
CREATED:20230808T153031Z
LAST-MODIFIED:20230808T153906Z
UID:10001745-1676977200-1676984400@www.outerbankshealth.org
SUMMARY:Healthy Living Jump Start
DESCRIPTION:Groups meet every other Wednesday in person. The Center for Healthy Living is offering 6 week provider led group classes that include biometrics\, access to a registered dietitian and certified health coach. Call 252-449-7390 to discuss eligibility. (No class Thanksgiving week)
URL:https://www.outerbankshealth.org/event/healthy-living-jump-start-october-2023/2023-02-21/
LOCATION:The Center for Healthy Living\, 4810 S. Croatan Highway\, Nags Head\, NC\, 27959\, United States
CATEGORIES:Road to a Healthier You
END:VEVENT
BEGIN:VEVENT
DTSTART;TZID=UTC:20230207T110000
DTEND;TZID=UTC:20230207T130000
DTSTAMP:20260422T184457
CREATED:20230808T153031Z
LAST-MODIFIED:20230808T153906Z
UID:10001744-1675767600-1675774800@www.outerbankshealth.org
SUMMARY:Healthy Living Jump Start
DESCRIPTION:Groups meet every other Wednesday in person. The Center for Healthy Living is offering 6 week provider led group classes that include biometrics\, access to a registered dietitian and certified health coach. Call 252-449-7390 to discuss eligibility. (No class Thanksgiving week)
URL:https://www.outerbankshealth.org/event/healthy-living-jump-start-october-2023/2023-02-07/
LOCATION:The Center for Healthy Living\, 4810 S. Croatan Highway\, Nags Head\, NC\, 27959\, United States
CATEGORIES:Road to a Healthier You
END:VEVENT
BEGIN:VEVENT
DTSTART;TZID=UTC:20230124T110000
DTEND;TZID=UTC:20230124T130000
DTSTAMP:20260422T184457
CREATED:20230808T153031Z
LAST-MODIFIED:20230808T153906Z
UID:10001743-1674558000-1674565200@www.outerbankshealth.org
SUMMARY:Healthy Living Jump Start
DESCRIPTION:Groups meet every other Wednesday in person. The Center for Healthy Living is offering 6 week provider led group classes that include biometrics\, access to a registered dietitian and certified health coach. Call 252-449-7390 to discuss eligibility. (No class Thanksgiving week)
URL:https://www.outerbankshealth.org/event/healthy-living-jump-start-october-2023/2023-01-24/
LOCATION:The Center for Healthy Living\, 4810 S. Croatan Highway\, Nags Head\, NC\, 27959\, United States
CATEGORIES:Road to a Healthier You
END:VEVENT
BEGIN:VEVENT
DTSTART;TZID=UTC:20230110T110000
DTEND;TZID=UTC:20230110T130000
DTSTAMP:20260422T184457
CREATED:20230808T153031Z
LAST-MODIFIED:20230808T153906Z
UID:10001742-1673348400-1673355600@www.outerbankshealth.org
SUMMARY:Healthy Living Jump Start
DESCRIPTION:Groups meet every other Wednesday in person. The Center for Healthy Living is offering 6 week provider led group classes that include biometrics\, access to a registered dietitian and certified health coach. Call 252-449-7390 to discuss eligibility. (No class Thanksgiving week)
URL:https://www.outerbankshealth.org/event/healthy-living-jump-start-october-2023/2023-01-10/
LOCATION:The Center for Healthy Living\, 4810 S. Croatan Highway\, Nags Head\, NC\, 27959\, United States
CATEGORIES:Road to a Healthier You
END:VEVENT
BEGIN:VEVENT
DTSTART;TZID=UTC:20221227T110000
DTEND;TZID=UTC:20221227T130000
DTSTAMP:20260422T184457
CREATED:20230808T153031Z
LAST-MODIFIED:20230808T153906Z
UID:10001741-1672138800-1672146000@www.outerbankshealth.org
SUMMARY:Healthy Living Jump Start
DESCRIPTION:Groups meet every other Wednesday in person. The Center for Healthy Living is offering 6 week provider led group classes that include biometrics\, access to a registered dietitian and certified health coach. Call 252-449-7390 to discuss eligibility. (No class Thanksgiving week)
URL:https://www.outerbankshealth.org/event/healthy-living-jump-start-october-2023/2022-12-27/
LOCATION:The Center for Healthy Living\, 4810 S. Croatan Highway\, Nags Head\, NC\, 27959\, United States
CATEGORIES:Road to a Healthier You
END:VEVENT
BEGIN:VEVENT
DTSTART;TZID=UTC:20221213T110000
DTEND;TZID=UTC:20221213T130000
DTSTAMP:20260422T184457
CREATED:20230808T153031Z
LAST-MODIFIED:20230808T153906Z
UID:10001740-1670929200-1670936400@www.outerbankshealth.org
SUMMARY:Healthy Living Jump Start
DESCRIPTION:Groups meet every other Wednesday in person. The Center for Healthy Living is offering 6 week provider led group classes that include biometrics\, access to a registered dietitian and certified health coach. Call 252-449-7390 to discuss eligibility. (No class Thanksgiving week)
URL:https://www.outerbankshealth.org/event/healthy-living-jump-start-october-2023/2022-12-13/
LOCATION:The Center for Healthy Living\, 4810 S. Croatan Highway\, Nags Head\, NC\, 27959\, United States
CATEGORIES:Road to a Healthier You
END:VEVENT
BEGIN:VEVENT
DTSTART;TZID=UTC:20221129T110000
DTEND;TZID=UTC:20221129T130000
DTSTAMP:20260422T184457
CREATED:20230808T153031Z
LAST-MODIFIED:20230808T153906Z
UID:10001739-1669719600-1669726800@www.outerbankshealth.org
SUMMARY:Healthy Living Jump Start
DESCRIPTION:Groups meet every other Wednesday in person. The Center for Healthy Living is offering 6 week provider led group classes that include biometrics\, access to a registered dietitian and certified health coach. Call 252-449-7390 to discuss eligibility. (No class Thanksgiving week)
URL:https://www.outerbankshealth.org/event/healthy-living-jump-start-october-2023/2022-11-29/
LOCATION:The Center for Healthy Living\, 4810 S. Croatan Highway\, Nags Head\, NC\, 27959\, United States
CATEGORIES:Road to a Healthier You
END:VEVENT
BEGIN:VEVENT
DTSTART;TZID=UTC:20221115T110000
DTEND;TZID=UTC:20221115T130000
DTSTAMP:20260422T184457
CREATED:20230808T153031Z
LAST-MODIFIED:20230808T153906Z
UID:10001738-1668510000-1668517200@www.outerbankshealth.org
SUMMARY:Healthy Living Jump Start
DESCRIPTION:Groups meet every other Wednesday in person. The Center for Healthy Living is offering 6 week provider led group classes that include biometrics\, access to a registered dietitian and certified health coach. Call 252-449-7390 to discuss eligibility. (No class Thanksgiving week)
URL:https://www.outerbankshealth.org/event/healthy-living-jump-start-october-2023/2022-11-15/
LOCATION:The Center for Healthy Living\, 4810 S. Croatan Highway\, Nags Head\, NC\, 27959\, United States
CATEGORIES:Road to a Healthier You
END:VEVENT
BEGIN:VEVENT
DTSTART;TZID=UTC:20221101T110000
DTEND;TZID=UTC:20221101T130000
DTSTAMP:20260422T184457
CREATED:20230808T153031Z
LAST-MODIFIED:20230808T153906Z
UID:10001737-1667300400-1667307600@www.outerbankshealth.org
SUMMARY:Healthy Living Jump Start
DESCRIPTION:Groups meet every other Wednesday in person. The Center for Healthy Living is offering 6 week provider led group classes that include biometrics\, access to a registered dietitian and certified health coach. Call 252-449-7390 to discuss eligibility. (No class Thanksgiving week)
URL:https://www.outerbankshealth.org/event/healthy-living-jump-start-october-2023/2022-11-01/
LOCATION:The Center for Healthy Living\, 4810 S. Croatan Highway\, Nags Head\, NC\, 27959\, United States
CATEGORIES:Road to a Healthier You
END:VEVENT
BEGIN:VEVENT
DTSTART;TZID=UTC:20221018T110000
DTEND;TZID=UTC:20221018T130000
DTSTAMP:20260422T184457
CREATED:20230808T153031Z
LAST-MODIFIED:20230808T153906Z
UID:10001736-1666090800-1666098000@www.outerbankshealth.org
SUMMARY:Healthy Living Jump Start
DESCRIPTION:Groups meet every other Wednesday in person. The Center for Healthy Living is offering 6 week provider led group classes that include biometrics\, access to a registered dietitian and certified health coach. Call 252-449-7390 to discuss eligibility. (No class Thanksgiving week)
URL:https://www.outerbankshealth.org/event/healthy-living-jump-start-october-2023/2022-10-18/
LOCATION:The Center for Healthy Living\, 4810 S. Croatan Highway\, Nags Head\, NC\, 27959\, United States
CATEGORIES:Road to a Healthier You
END:VEVENT
BEGIN:VEVENT
DTSTART;TZID=UTC:20220617T120000
DTEND;TZID=UTC:20220617T130000
DTSTAMP:20260422T184457
CREATED:20220406T183045Z
LAST-MODIFIED:20220406T183045Z
UID:10001633-1655467200-1655470800@www.outerbankshealth.org
SUMMARY:Road to A Healthier You - Part 3: An Overview of Lifestyle Medicine and Stress Management featuring Marielle Silk\, FNP-BC
DESCRIPTION:[vc_row][vc_column][vc_single_image image=”95162″ img_size=”full”][vc_column_text]Are you ready to move towards a healthier lifestyle? Join experts from The Outer Banks Hospital Center for Healthy Living on Zoom who will help guide you to your North Star during this virtual three-part series. \nPart 3 of 3: Marielle Silk\, FNP-BC will provide an overview of lifestyle medicine and stress management using the pillars (exercise\, nutrition\, sleep\, stress\, connection\, substance use) \nPlease RSVP below or call 252-449-4529.[/vc_column_text][/vc_column][/vc_row][vc_row][vc_column][/vc_column][/vc_row]
URL:https://www.outerbankshealth.org/event/road-to-a-healthier-you-part-3-lifestyle-medicine/
LOCATION:Virtual
CATEGORIES:Road to a Healthier You
END:VEVENT
BEGIN:VEVENT
DTSTART;TZID=UTC:20220610T120000
DTEND;TZID=UTC:20220610T130000
DTSTAMP:20260422T184457
CREATED:20220406T182449Z
LAST-MODIFIED:20220406T182449Z
UID:10001631-1654862400-1654866000@www.outerbankshealth.org
SUMMARY:Road to A Healthier You - Part 2: Healthy Summer Nutrition Tips featuring Jaclyn Hall\, RDN
DESCRIPTION:[vc_row][vc_column][vc_single_image image=”95162″ img_size=”full”][vc_column_text]Are you ready to move towards a healthier lifestyle? Join experts from The Outer Banks Hospital Center for Healthy Living on Zoom who will help guide you to your North Star during this virtual three-part series. \nPart 2 of 3: Jaclyn Hall\, RDN will lead a session about healthy summer nutrition tips and she will also share a few healthy summer recipes \nPlease RSVP below or call 252-449-4529.[/vc_column_text][/vc_column][/vc_row][vc_row][vc_column][/vc_column][/vc_row]
URL:https://www.outerbankshealth.org/event/road-to-a-healthier-you-part-2-healthy-summer-nutrition-tips/
LOCATION:Virtual
CATEGORIES:Road to a Healthier You
END:VEVENT
BEGIN:VEVENT
DTSTART;TZID=UTC:20220603T120000
DTEND;TZID=UTC:20220603T130000
DTSTAMP:20260422T184457
CREATED:20220406T181913Z
LAST-MODIFIED:20220406T181913Z
UID:10001630-1654257600-1654261200@www.outerbankshealth.org
SUMMARY:Road to A Healthier You - Part 1: Tobacco Cessation featuring Denise de Pedro and Marielle Silk\, FNP-BC
DESCRIPTION:[vc_row][vc_column][vc_single_image image=”95162″ img_size=”full”][vc_column_text]Are you ready to move towards a healthier lifestyle? Join experts from The Outer Banks Hospital Center for Healthy Living on Zoom who will help guide you to your North Star during this virtual three-part series. \nPart 1 of 3: Denise de Pedro and Marielle Silk\, FNP-BC will lead a Tobacco Cessation for session for current smokers only \nPlease RSVP by registering below or by calling 252-449-4529.[/vc_column_text][/vc_column][/vc_row][vc_row][vc_column][/vc_column][/vc_row]
URL:https://www.outerbankshealth.org/event/road-to-a-healthier-you-part-1-tobacco-cessation/
LOCATION:Virtual
CATEGORIES:Road to a Healthier You
END:VEVENT
END:VCALENDAR