
BEGIN:VCALENDAR
VERSION:2.0
PRODID:-//Outer Banks Health - ECPv6.15.20//NONSGML v1.0//EN
CALSCALE:GREGORIAN
METHOD:PUBLISH
X-ORIGINAL-URL:https://www.outerbankshealth.org
X-WR-CALDESC:Events for Outer Banks Health
REFRESH-INTERVAL;VALUE=DURATION:PT1H
X-Robots-Tag:noindex
X-PUBLISHED-TTL:PT1H
BEGIN:VTIMEZONE
TZID:UTC
BEGIN:STANDARD
TZOFFSETFROM:+0000
TZOFFSETTO:+0000
TZNAME:UTC
DTSTART:20240101T000000
END:STANDARD
END:VTIMEZONE
BEGIN:VEVENT
DTSTART;TZID=UTC:20251030T170000
DTEND;TZID=UTC:20251030T190000
DTSTAMP:20260423T172355
CREATED:20250805T163625Z
LAST-MODIFIED:20251008T200405Z
UID:10002327-1761843600-1761850800@www.outerbankshealth.org
SUMMARY:Harvest for Health Trunk or Treat
DESCRIPTION:[vc_row][vc_column][vc_column_text css=””] \nJoin this community event with free arts & crafts\, Lizard Land animal experience\, face painting\, fun trunks with treats\, and adults can get their flu vaccines (18-64 years of age). This FREE event is fall family fun for all ages. Bring your family and friends\, put on your best Halloween costume\, and join us for a few hours of fun! For more information\, call 252-449-9183. Rain or shine!\n[/vc_column_text][/vc_column][/vc_row]
URL:https://www.outerbankshealth.org/event/harvest-for-health-trunk-or-treat/
LOCATION:Outer Banks Health Hospital\, 4800 S. Croatan Highway\, Nags Head\, NC\, 27959\, United States
END:VEVENT
END:VCALENDAR