
BEGIN:VCALENDAR
VERSION:2.0
PRODID:-//Outer Banks Health - ECPv6.15.20//NONSGML v1.0//EN
CALSCALE:GREGORIAN
METHOD:PUBLISH
X-WR-CALNAME:Outer Banks Health
X-ORIGINAL-URL:https://www.outerbankshealth.org
X-WR-CALDESC:Events for Outer Banks Health
REFRESH-INTERVAL;VALUE=DURATION:PT1H
X-Robots-Tag:noindex
X-PUBLISHED-TTL:PT1H
BEGIN:VTIMEZONE
TZID:UTC
BEGIN:STANDARD
TZOFFSETFROM:+0000
TZOFFSETTO:+0000
TZNAME:UTC
DTSTART:20200101T000000
END:STANDARD
END:VTIMEZONE
BEGIN:VEVENT
DTSTART;TZID=UTC:20211201T080000
DTEND;TZID=UTC:20211201T130000
DTSTAMP:20260422T111307
CREATED:20211104T155320Z
LAST-MODIFIED:20211104T155320Z
UID:10001498-1638345600-1638363600@www.outerbankshealth.org
SUMMARY:The Blood Connection Blood Drive
DESCRIPTION:[vc_row][vc_column][vc_column_text]The Blood Connection is hosting a community blood drive. All donors will receive a $20 e-gift card. All donors are asked to make an appointment to best control social distancing. \nThe Blood Drive is from 8:00am to 1:00pm. \nFor more information\, call 252-449-4529. To schedule an appointment click here.[/vc_column_text][/vc_column][/vc_row]
URL:https://www.outerbankshealth.org/event/the-blood-connection-blood-drive-dec1/
LOCATION:Outer Banks Health Hospital\, 4800 S. Croatan Highway\, Nags Head\, NC\, 27959\, United States
ATTACH;FMTTYPE=image/jpeg:https://www.outerbankshealth.org/wp-content/uploads/2021/02/Blood-Connection-Event-Cover.jpg
END:VEVENT
END:VCALENDAR